BEGIN:VCALENDAR
VERSION:2.0
PRODID:-//hacksw/handcal//NONSGML v1.0//EN
BEGIN:VEVENT
SUMMARY:Gouter de fin de saison
UID:c180f557-5316-48bb-9271-9ecd941cb6c9
DTSTART:20260523T133000Z
DTEND:20260523T220000Z
LOCATION:Localisation   
CATEGORIES:Festif
STATUS:
DESCRIPTION:<section>
 <p>👉 <strong>Gouter du club – samedi 23
 mai 2026 a partir de 16h – Cite Detente</strong></p>
 
 <p>Un moment
 convivial ouvert a tous les licencies et leurs familles pour se
 retrouver en dehors du terrain.</p>
 
 <p>Au programme :<br>
 •
 echanges de vignettes entre joueurs<br>
 • tirage au sort parmi les
 albums complets avec un <strong>ballon Kobe Bryant</strong> a
 gagner<br>
 • <strong>retour sur la saison : resultats et parcours
 de chaque equipe</strong></p>
 
 <p>Un temps simple et chaleureux pour
 partager un moment ensemble au sein du club.</p>
 </section>
URL;VALUE=URI:https://granvillebasketclub.sportsregions.fr/evenements/2026/05/23/gouter-de-fin-de-saison-2442786
END:VEVENT
END:VCALENDAR
