BEGIN:VCALENDAR
VERSION:2.0
PRODID:-//hacksw/handcal//NONSGML v1.0//EN
BEGIN:VEVENT
SUMMARY:TOURNOI BRETTEVILLE/LAIZE
UID:93f20aea-2a6a-4e7f-8283-e019b4a15f66
DTSTART:20260613T220000Z
DTEND:20260614T220000Z
LOCATION:Localisation EXTERIEUR  
CATEGORIES:Sportif
STATUS:
URL;VALUE=URI:https://granvillebasketclub.sportsregions.fr/evenements/2026/06/14/tournoi-brettevillelaize-2438964
END:VEVENT
END:VCALENDAR
